BEGIN:VCALENDAR
VERSION:2.0
PRODID:-//Reese Ryan Romance - ECPv6.15.20//NONSGML v1.0//EN
CALSCALE:GREGORIAN
METHOD:PUBLISH
X-WR-CALNAME:Reese Ryan Romance
X-ORIGINAL-URL:https://reeseryan.com
X-WR-CALDESC:Events for Reese Ryan Romance
REFRESH-INTERVAL;VALUE=DURATION:PT1H
X-Robots-Tag:noindex
X-PUBLISHED-TTL:PT1H
BEGIN:VTIMEZONE
TZID:America/New_York
BEGIN:DAYLIGHT
TZOFFSETFROM:-0500
TZOFFSETTO:-0400
TZNAME:EDT
DTSTART:20170312T070000
END:DAYLIGHT
BEGIN:STANDARD
TZOFFSETFROM:-0400
TZOFFSETTO:-0500
TZNAME:EST
DTSTART:20171105T060000
END:STANDARD
BEGIN:DAYLIGHT
TZOFFSETFROM:-0500
TZOFFSETTO:-0400
TZNAME:EDT
DTSTART:20180311T070000
END:DAYLIGHT
BEGIN:STANDARD
TZOFFSETFROM:-0400
TZOFFSETTO:-0500
TZNAME:EST
DTSTART:20181104T060000
END:STANDARD
BEGIN:DAYLIGHT
TZOFFSETFROM:-0500
TZOFFSETTO:-0400
TZNAME:EDT
DTSTART:20190310T070000
END:DAYLIGHT
BEGIN:STANDARD
TZOFFSETFROM:-0400
TZOFFSETTO:-0500
TZNAME:EST
DTSTART:20191103T060000
END:STANDARD
END:VTIMEZONE
BEGIN:VEVENT
DTSTART;TZID=America/New_York:20180922T130000
DTEND;TZID=America/New_York:20180922T150000
DTSTAMP:20260421T143036
CREATED:20180905T034521Z
LAST-MODIFIED:20180905T035242Z
UID:3220-1537621200-1537628400@reeseryan.com
SUMMARY:PLAYING WITH SEDUCTION Online Book Discussion
DESCRIPTION:***This is an exclusive event for members of my VIP Readers Lounge on Facebook. Join for free here.*** \nWe’re discussing Wesley and Brianna’s story\, PLAYING WITH SEDUCTION. They’ll be lots of giveaways\, so don’t miss it! \nSee the description below. Download your copy of the book here. \nThere’s no safety net in love… \nAs the reigning queen of competitive beach volleyball\, Brianna Evans wants her career to go out with a bang. And what better send-off than a signature tournament sponsored by an exclusive high-end luxury resort? But Bree’s heart could end up on the line. Her partner on the project is the irresistible man with whom she shared one perfect night in London…and never heard from again. \nAfter great UK success\, premier event promoter Wesley Adams is glad to be back on his North Carolina home turf. Until he discovers the collaborator on his next joint venture is the flawless beauty he spent an unforgettable evening with more than a year ago. Wes wants to finish what they started\, but he can’t risk derailing the project or hurting Bree. And when they finally give in to their growing passion\, will a terrible secret from his past and an escalating threat from Bree’s cost them their second chance? \nTo participate in this online Facebook event\, join the Reese Ryan VIP Readers Lounge on Facebook here.
URL:https://reeseryan.com/event/playing-with-seduction-online-book-discussion/
CATEGORIES:Book Clubs,Reader Events,Reese Ryan VIP Readers Lounge
ATTACH;FMTTYPE=image/png:https://reeseryan.com/wp-content/uploads/2018/09/Reese-Ryan-Book-Chat-PLAYING-WITH-SEDUCTION.png
ORGANIZER;CN="Reese Ryan":MAILTO:Connect@ReeseRyan.com
END:VEVENT
END:VCALENDAR