BEGIN:VCALENDAR
VERSION:2.0
PRODID:-//Reese Ryan Romance - ECPv6.15.20//NONSGML v1.0//EN
CALSCALE:GREGORIAN
METHOD:PUBLISH
X-ORIGINAL-URL:https://reeseryan.com
X-WR-CALDESC:Events for Reese Ryan Romance
REFRESH-INTERVAL;VALUE=DURATION:PT1H
X-Robots-Tag:noindex
X-PUBLISHED-TTL:PT1H
BEGIN:VTIMEZONE
TZID:America/New_York
BEGIN:DAYLIGHT
TZOFFSETFROM:-0500
TZOFFSETTO:-0400
TZNAME:EDT
DTSTART:20160313T070000
END:DAYLIGHT
BEGIN:STANDARD
TZOFFSETFROM:-0400
TZOFFSETTO:-0500
TZNAME:EST
DTSTART:20161106T060000
END:STANDARD
BEGIN:DAYLIGHT
TZOFFSETFROM:-0500
TZOFFSETTO:-0400
TZNAME:EDT
DTSTART:20170312T070000
END:DAYLIGHT
BEGIN:STANDARD
TZOFFSETFROM:-0400
TZOFFSETTO:-0500
TZNAME:EST
DTSTART:20171105T060000
END:STANDARD
BEGIN:DAYLIGHT
TZOFFSETFROM:-0500
TZOFFSETTO:-0400
TZNAME:EDT
DTSTART:20180311T070000
END:DAYLIGHT
BEGIN:STANDARD
TZOFFSETFROM:-0400
TZOFFSETTO:-0500
TZNAME:EST
DTSTART:20181104T060000
END:STANDARD
END:VTIMEZONE
BEGIN:VEVENT
DTSTART;TZID=America/New_York:20170408T130000
DTEND;TZID=America/New_York:20170408T150000
DTSTAMP:20260422T143750
CREATED:20170411T152402Z
LAST-MODIFIED:20170411T152402Z
UID:2691-1491656400-1491663600@reeseryan.com
SUMMARY:Conquering Contemporary Romance
DESCRIPTION:I was a panelist in a discussion on Conquering Contemporary Romance along with awesome\, talented and prolific authors Samantha Chase and Marquita Valentine. \nA panel presented by Reese Ryan\, Samantha Chase and Marquita Valentine.
URL:https://reeseryan.com/event/conquering-contemporary-romance/
LOCATION:ECPI Campus\, 4101 Doie Cope Rd\, Raleigh\, NC\, 27613\, United States
CATEGORIES:Author Events,Workshops & Conferences,Writer Events
ATTACH;FMTTYPE=image/jpeg:https://reeseryan.com/wp-content/uploads/2017/04/SamanthaChaseReeseRyanMarquitaValentine-e1491923911135.jpg
ORGANIZER;CN="Heart of Carolina Chapter of RWA":MAILTO:programs@heartofcarolina.org
END:VEVENT
END:VCALENDAR