BEGIN:VCALENDAR
VERSION:2.0
PRODID:-//Reese Ryan Romance - ECPv6.15.20//NONSGML v1.0//EN
CALSCALE:GREGORIAN
METHOD:PUBLISH
X-WR-CALNAME:Reese Ryan Romance
X-ORIGINAL-URL:https://reeseryan.com
X-WR-CALDESC:Events for Reese Ryan Romance
REFRESH-INTERVAL;VALUE=DURATION:PT1H
X-Robots-Tag:noindex
X-PUBLISHED-TTL:PT1H
BEGIN:VTIMEZONE
TZID:America/New_York
BEGIN:DAYLIGHT
TZOFFSETFROM:-0500
TZOFFSETTO:-0400
TZNAME:EDT
DTSTART:20120311T070000
END:DAYLIGHT
BEGIN:STANDARD
TZOFFSETFROM:-0400
TZOFFSETTO:-0500
TZNAME:EST
DTSTART:20121104T060000
END:STANDARD
BEGIN:DAYLIGHT
TZOFFSETFROM:-0500
TZOFFSETTO:-0400
TZNAME:EDT
DTSTART:20130310T070000
END:DAYLIGHT
BEGIN:STANDARD
TZOFFSETFROM:-0400
TZOFFSETTO:-0500
TZNAME:EST
DTSTART:20131103T060000
END:STANDARD
BEGIN:DAYLIGHT
TZOFFSETFROM:-0500
TZOFFSETTO:-0400
TZNAME:EDT
DTSTART:20140309T070000
END:DAYLIGHT
BEGIN:STANDARD
TZOFFSETFROM:-0400
TZOFFSETTO:-0500
TZNAME:EST
DTSTART:20141102T060000
END:STANDARD
END:VTIMEZONE
BEGIN:VEVENT
DTSTART;VALUE=DATE:20131120
DTEND;VALUE=DATE:20131121
DTSTAMP:20260424T234628
CREATED:20131117T163028Z
LAST-MODIFIED:20131117T163349Z
UID:1309-1384905600-1384991999@reeseryan.com
SUMMARY:Guest Post on Contemporary Romance Writers Blog
DESCRIPTION:I’ve been invited to guest post on the blog for the Contemporary Romance Writers RWA Chapter–of which I am a proud member. Be sure to hop by for a visit here.
URL:https://reeseryan.com/event/guest-contemporaryrwablog/
LOCATION:Contemporary Romance Writers Blog
CATEGORIES:Blog Visits
END:VEVENT
END:VCALENDAR