BEGIN:VCALENDAR
VERSION:2.0
PRODID:-//Reese Ryan Romance - ECPv6.15.20//NONSGML v1.0//EN
CALSCALE:GREGORIAN
METHOD:PUBLISH
X-ORIGINAL-URL:https://reeseryan.com
X-WR-CALDESC:Events for Reese Ryan Romance
REFRESH-INTERVAL;VALUE=DURATION:PT1H
X-Robots-Tag:noindex
X-PUBLISHED-TTL:PT1H
BEGIN:VTIMEZONE
TZID:America/New_York
BEGIN:DAYLIGHT
TZOFFSETFROM:-0500
TZOFFSETTO:-0400
TZNAME:EDT
DTSTART:20160313T070000
END:DAYLIGHT
BEGIN:STANDARD
TZOFFSETFROM:-0400
TZOFFSETTO:-0500
TZNAME:EST
DTSTART:20161106T060000
END:STANDARD
BEGIN:DAYLIGHT
TZOFFSETFROM:-0500
TZOFFSETTO:-0400
TZNAME:EDT
DTSTART:20170312T070000
END:DAYLIGHT
BEGIN:STANDARD
TZOFFSETFROM:-0400
TZOFFSETTO:-0500
TZNAME:EST
DTSTART:20171105T060000
END:STANDARD
BEGIN:DAYLIGHT
TZOFFSETFROM:-0500
TZOFFSETTO:-0400
TZNAME:EDT
DTSTART:20180311T070000
END:DAYLIGHT
BEGIN:STANDARD
TZOFFSETFROM:-0400
TZOFFSETTO:-0500
TZNAME:EST
DTSTART:20181104T060000
END:STANDARD
END:VTIMEZONE
BEGIN:VEVENT
DTSTART;TZID=America/New_York:20170825T180000
DTEND;TZID=America/New_York:20170825T220000
DTSTAMP:20260422T001151
CREATED:20170224T212615Z
LAST-MODIFIED:20170224T214508Z
UID:2491-1503684000-1503698400@reeseryan.com
SUMMARY:Lights! Camera! Action! Girls Night Out
DESCRIPTION:Lights. Camera. Action. Girls Night Out Party \nHang out with fellow readers and some of your favorite authors during the Lights. Camera. Action. Girls Night Out Party on Friday night. The evening will feature live music\, spoken word\, paint party\, swag bag\, food and a few other surprises. A.C. Arthur\, Iris Bolling\, Sabrina Jeffries\, Tony Clever Black Johnson\, Vanessa Miller\, Victorious Ladies Reading Book Club\, Deborah Mello\, Misha Elliott\, Ana E Ross\, Reese Ryan and more will be in the house.
URL:https://reeseryan.com/event/lights-camera-action-girls-night-out/
LOCATION:Courtyard Raleigh Durham Airport/Morrisville\, 2001 Hospitality Court\, Morrisville\, NC\, 27560\, United States
CATEGORIES:Author Events,Reader Events,Workshops & Conferences,Writer Events
ATTACH;FMTTYPE=image/jpeg:https://reeseryan.com/wp-content/uploads/2017/02/unnamed-6.jpg
END:VEVENT
END:VCALENDAR