BEGIN:VCALENDAR
VERSION:2.0
PRODID:-//Reese Ryan Romance - ECPv6.15.20//NONSGML v1.0//EN
CALSCALE:GREGORIAN
METHOD:PUBLISH
X-WR-CALNAME:Reese Ryan Romance
X-ORIGINAL-URL:https://reeseryan.com
X-WR-CALDESC:Events for Reese Ryan Romance
REFRESH-INTERVAL;VALUE=DURATION:PT1H
X-Robots-Tag:noindex
X-PUBLISHED-TTL:PT1H
BEGIN:VTIMEZONE
TZID:America/New_York
BEGIN:DAYLIGHT
TZOFFSETFROM:-0500
TZOFFSETTO:-0400
TZNAME:EDT
DTSTART:20190310T070000
END:DAYLIGHT
BEGIN:STANDARD
TZOFFSETFROM:-0400
TZOFFSETTO:-0500
TZNAME:EST
DTSTART:20191103T060000
END:STANDARD
BEGIN:DAYLIGHT
TZOFFSETFROM:-0500
TZOFFSETTO:-0400
TZNAME:EDT
DTSTART:20200308T070000
END:DAYLIGHT
BEGIN:STANDARD
TZOFFSETFROM:-0400
TZOFFSETTO:-0500
TZNAME:EST
DTSTART:20201101T060000
END:STANDARD
BEGIN:DAYLIGHT
TZOFFSETFROM:-0500
TZOFFSETTO:-0400
TZNAME:EDT
DTSTART:20210314T070000
END:DAYLIGHT
BEGIN:STANDARD
TZOFFSETFROM:-0400
TZOFFSETTO:-0500
TZNAME:EST
DTSTART:20211107T060000
END:STANDARD
END:VTIMEZONE
BEGIN:VEVENT
DTSTART;TZID=America/New_York:20200612T140000
DTEND;TZID=America/New_York:20200612T150000
DTSTAMP:20260419T082209
CREATED:20200612T031652Z
LAST-MODIFIED:20200612T032437Z
UID:14348-1591970400-1591974000@reeseryan.com
SUMMARY:The Story Behind The Boyfriend Project: a Conversation with Author Farrah Rochon
DESCRIPTION:Author Farrah Rochon will join us for a live #BookChat on Friday\, June 12th at 2 PM. She’ll give us the #StoryBehindTheStory on her latest release The Boyfriend Project\,. This highly-anticipated book has been all the buzz\, named to several book lists\, including Entertainment Weekly’s Best Books to Read in June 2020\, Library Reads\, and a featured May Book of the Month.  \nWe’ll get insight into the characters and story and learn more about the author behind The Boyfriend Project. Pose your questions or comments during the live event or post questions or comments below and then watch the replay.  \nDon’t forget to hit the reminder button\, so you’ll know when the show goes live.
URL:https://reeseryan.com/event/the-story-behind-the-boyfriend-project-a-conversation-with-author-farrah-rochon/
LOCATION:Reese Ryan YouTube Channel
CATEGORIES:#BookChat,#StoryBehindTheStory,Author Events,Reader Events,Reese Ryan Writes Channel,Writer Events
ATTACH;FMTTYPE=image/png:https://reeseryan.com/wp-content/uploads/2020/06/FB-FarrahRochon-SBTSJune2020.png
ORGANIZER;CN="Reese Ryan Writes Channel":MAILTO:Connect@ReeseRyan.com
END:VEVENT
BEGIN:VEVENT
DTSTART;TZID=America/New_York:20200612T200000
DTEND;TZID=America/New_York:20200612T210000
DTSTAMP:20260419T082209
CREATED:20200612T025911Z
LAST-MODIFIED:20200612T025911Z
UID:14340-1591992000-1591995600@reeseryan.com
SUMMARY:Rivals and Heirs Event Hosted by Love's Sweet Arrow
DESCRIPTION:Join me in a conversation with Danielle Dresser from Fresh Fiction as we chat about SECRET HEIR SEDUCTION—my latest contribution to the long-running Texas Cattleman’s Club series—and my upcoming release A REUNION OF RIVALS (Bourbon Brothers Book #5). \nIt’s a free\, online event\, but you can grab a ticket to the event or order a signed copy of A REUNION OF RIVALS\, SECRET HEIR SEDUCTION\, or OFF LIMITS LOVERS here: https://lovessweetarrow.indielite.org/event/rivals-and-heirs-virtual-event-reese-ryan.
URL:https://reeseryan.com/event/rivals-and-heirs-event-hosted-by-loves-sweet-arrow/
LOCATION:Love’s Sweet Arrow YouTube Channel\, IL\, United States
CATEGORIES:Author Events,Book Signing,Bookstore Events,Reader Events,Writer Events
ATTACH;FMTTYPE=image/jpeg:https://reeseryan.com/wp-content/uploads/2020/06/Rivals-and-Heirs-Event-6-12-2020.jpeg
END:VEVENT
BEGIN:VEVENT
DTSTART;TZID=America/New_York:20200616T190000
DTEND;TZID=America/New_York:20200616T210000
DTSTAMP:20260419T082209
CREATED:20200612T045120Z
LAST-MODIFIED:20200612T045120Z
UID:14361-1592334000-1592341200@reeseryan.com
SUMMARY:Nina Crespo The Cowboy's Claim Release Party
DESCRIPTION:Join me\, Rebecca Hunter\, Naima Simone\, Regina Kyle\, and Kathy Douglass as we help Nina Crespo celebrate the release of her Harlequin debut The Cowboy’s Claim. \nCheck out the graphic for the author appearance schedule. Then get in on the fun\, games\, and giveaways by joining the Racy Reads Party Room here: https://www.facebook.com/groups/RacyReads/.
URL:https://reeseryan.com/event/nina-crespo-the-cowboys-claim-release-party/
LOCATION:Racy Reads Party Room
CATEGORIES:Author Events,Book Release Party,Reader Events,Writer Events
ATTACH;FMTTYPE=image/jpeg:https://reeseryan.com/wp-content/uploads/2020/06/NinaCrespoRacyReadsParty-e1591936714330.jpg
END:VEVENT
BEGIN:VEVENT
DTSTART;TZID=America/New_York:20200619T140000
DTEND;TZID=America/New_York:20200619T150000
DTSTAMP:20260419T082209
CREATED:20200612T043538Z
LAST-MODIFIED:20200612T043538Z
UID:14356-1592575200-1592578800@reeseryan.com
SUMMARY:The Story Behind 40-Love: A Conversation with Author Olivia Dade
DESCRIPTION:Author Olivia Dade will pop round for a visit to give us the #StoryBehindTheStory on her latest release 40-Love and discuss why representation for plus-size characters matters in romance and should be done thoughtfully.  \nLearn more about Olivia Dade by visiting her website: https://oliviadade.com/.  \nWe’ll get insight into the characters and story and learn more about the author behind 40-Love Pose your questions or comments during the live event or post questions or comments below and then watch the replay.  \nDon’t forget to hit the reminder button\, so you’ll know when the show goes live.
URL:https://reeseryan.com/event/the-story-behind-40-love-a-conversation-with-author-olivia-dade/
LOCATION:Reese Ryan YouTube Channel
CATEGORIES:#BookChat,#StoryBehindTheStory,Author Events,Reader Events,Reese Ryan Writes Channel,Writer Events
ATTACH;FMTTYPE=image/png:https://reeseryan.com/wp-content/uploads/2020/06/FB-OliviaDade-SBTSJune2020-e1595703403924.png
ORGANIZER;CN="Reese Ryan Writes Channel":MAILTO:Connect@ReeseRyan.com
END:VEVENT
END:VCALENDAR