BEGIN:VCALENDAR
VERSION:2.0
PRODID:-//Reese Ryan Romance - ECPv6.15.20//NONSGML v1.0//EN
CALSCALE:GREGORIAN
METHOD:PUBLISH
X-WR-CALNAME:Reese Ryan Romance
X-ORIGINAL-URL:https://reeseryan.com
X-WR-CALDESC:Events for Reese Ryan Romance
REFRESH-INTERVAL;VALUE=DURATION:PT1H
X-Robots-Tag:noindex
X-PUBLISHED-TTL:PT1H
BEGIN:VTIMEZONE
TZID:America/New_York
BEGIN:DAYLIGHT
TZOFFSETFROM:-0500
TZOFFSETTO:-0400
TZNAME:EDT
DTSTART:20180311T070000
END:DAYLIGHT
BEGIN:STANDARD
TZOFFSETFROM:-0400
TZOFFSETTO:-0500
TZNAME:EST
DTSTART:20181104T060000
END:STANDARD
BEGIN:DAYLIGHT
TZOFFSETFROM:-0500
TZOFFSETTO:-0400
TZNAME:EDT
DTSTART:20190310T070000
END:DAYLIGHT
BEGIN:STANDARD
TZOFFSETFROM:-0400
TZOFFSETTO:-0500
TZNAME:EST
DTSTART:20191103T060000
END:STANDARD
BEGIN:DAYLIGHT
TZOFFSETFROM:-0500
TZOFFSETTO:-0400
TZNAME:EDT
DTSTART:20200308T070000
END:DAYLIGHT
BEGIN:STANDARD
TZOFFSETFROM:-0400
TZOFFSETTO:-0500
TZNAME:EST
DTSTART:20201101T060000
END:STANDARD
END:VTIMEZONE
BEGIN:VEVENT
DTSTART;VALUE=DATE:20190328
DTEND;VALUE=DATE:20190401
DTSTAMP:20260422T060751
CREATED:20180322T122116Z
LAST-MODIFIED:20180628T224811Z
UID:3108-1553731200-1554076799@reeseryan.com
SUMMARY:Book Euphoria Block Party Reader Event March 2019
DESCRIPTION:Join Book Euphoria in March 2019 for a weekend block party hosted by some FABULOUS AUTHORS. And the event includes a LIVE BACHELOR AUCTION! Join us from Thursday\, March 28th to Sunday\, March 31st IN 2019 as we welcome you to the fictional Chicago neighborhood of Southlake Park\, which will be the theme for the weekend! \nFeatured authors include:\n\nAc Arthur\nPhyllis Bourne\nSheryl Lister\nSherelle Green\nReese Ryan Romance\nAngela Seals\nEva J. Brock\nAuthor Elle Wright\nChristina Jones\nJoy Avery\, Romance Author\nAuthor Nicole Falls\nAuthor Anita Davis\nSuzette D. Harrison Books\nTy Waller\nSuzette Riddick\, Author\nKelsey Green\n\nRegistration for the full weekend is just $180\, and you can hold your spot for $80. Also\, two-night passes are available for $55. Single night passes begin at just $20. Check out the full weekend agenda and secure your ticket today here: bit.ly/BE2019WeekendBlockParty \n#BookEuphoria #BE2019WeekendBlockParty #SouthlakePark \nSee you in Chicago in March 2019!\nABOUT SOUTHLAKE PARK \nOnce the heart of Chicago\, Southlake Park is in major need of restoration\, however\, it still holds it’s undeniable charm! For the weekend\, we invite you to experience all the fun and beauty that Southlake Park has to offer\, including book signings\, engaging reader and author sessions\, plus a one-of-a-kind bachelor auction!
URL:https://reeseryan.com/event/book-euphoria-block-party-reader-event-march-2019/
LOCATION:Embassy Suites by Hilton\, 707 East Butterfield Road\, Lombard\, IL\, 60148\, United States
CATEGORIES:Author Events,Book Clubs,Book Signing,Reader Events,Writer Events
ATTACH;FMTTYPE=image/jpeg:https://reeseryan.com/wp-content/uploads/2018/03/Distinguished-Gentleman-Graphic-All-Authors.jpg
ORGANIZER;CN="Book Euphoria":MAILTO:bookeuphoria15@gmail.com
END:VEVENT
END:VCALENDAR