BEGIN:VCALENDAR
VERSION:2.0
PRODID:-//Reese Ryan Romance - ECPv6.15.20//NONSGML v1.0//EN
CALSCALE:GREGORIAN
METHOD:PUBLISH
X-WR-CALNAME:Reese Ryan Romance
X-ORIGINAL-URL:https://reeseryan.com
X-WR-CALDESC:Events for Reese Ryan Romance
REFRESH-INTERVAL;VALUE=DURATION:PT1H
X-Robots-Tag:noindex
X-PUBLISHED-TTL:PT1H
BEGIN:VTIMEZONE
TZID:America/New_York
BEGIN:DAYLIGHT
TZOFFSETFROM:-0500
TZOFFSETTO:-0400
TZNAME:EDT
DTSTART:20170312T070000
END:DAYLIGHT
BEGIN:STANDARD
TZOFFSETFROM:-0400
TZOFFSETTO:-0500
TZNAME:EST
DTSTART:20171105T060000
END:STANDARD
BEGIN:DAYLIGHT
TZOFFSETFROM:-0500
TZOFFSETTO:-0400
TZNAME:EDT
DTSTART:20180311T070000
END:DAYLIGHT
BEGIN:STANDARD
TZOFFSETFROM:-0400
TZOFFSETTO:-0500
TZNAME:EST
DTSTART:20181104T060000
END:STANDARD
BEGIN:DAYLIGHT
TZOFFSETFROM:-0500
TZOFFSETTO:-0400
TZNAME:EDT
DTSTART:20190310T070000
END:DAYLIGHT
BEGIN:STANDARD
TZOFFSETFROM:-0400
TZOFFSETTO:-0500
TZNAME:EST
DTSTART:20191103T060000
END:STANDARD
END:VTIMEZONE
BEGIN:VEVENT
DTSTART;TZID=America/New_York:20180824T180000
DTEND;TZID=America/New_York:20180824T220000
DTSTAMP:20260422T163459
CREATED:20171207T174956Z
LAST-MODIFIED:20171207T182010Z
UID:2836-1535133600-1535148000@reeseryan.com
SUMMARY:Lights! Camera! Action! Girls Night Out and Bedtime Stories!
DESCRIPTION:Are you ready for Lights! Camera! Action! 2018? This exciting\, two-day event features a free literary event on Saturday and a fun\, event-packed girls night on Friday night.\n\nThe two-day event includes:\n\nGirls Night Out\nSiriAustin Pajama Party\nNaughty Bedtime Stories\nDiamond Literary Tea Party & Fashion Show\nBachelor Auction for Charity\nBook Signing\nPanel Discussions\nMovie Screenings\n\nFeatured Authors\n\nBeverly Jenkins\nAC Arthur\nSherilyn Bennett\nIris Bolling\nYolanda Briggs\nEva J. Brock\nSavannah J. Frierson\nNorwood Holland\nSherryle Kiser Jackson\nVivian Rose Lee\nTrevy McDonald\nDeborah Fletcher Mello\nAngelia Menchan\nSienna Mynx\n\nSuzetta Perkins\n\n\nLeslie Ray\n\n\nMZ Robinson\n\n\nReese Ryan\n\n\nDL Sparks\n\n\nJackie Thomas\n\n\nVLR\n\n\nLive music is on the agenda. We also will have a bachelor auction\, PJ Contest\, luncheon\, fashion show\, book signing\, panel discussions\, painting\, Girls Night Out\, and Bedtime Stories for $75. Pay/Register at https://paypal.me/lasheera. Refreshments will be served at Girls Night Out and bedtime stories. Room rate is $99. It includes breakfast for Sat. and Sun.\nBook room here. \nSee you there!
URL:https://reeseryan.com/event/lights-camera-action-girls-night-out-and-bedtime-stories/
LOCATION:Marriott Courtyard Raleigh Durham\, 2001 Hospitality Court\, Morrisville\, NC\, 27526\, United States
CATEGORIES:Author Events,Book Clubs,Reader Events,Writer Events
ATTACH;FMTTYPE=image/jpeg:https://reeseryan.com/wp-content/uploads/2017/12/Lights-Camera-Action-2018-Faces.jpg
END:VEVENT
BEGIN:VEVENT
DTSTART;VALUE=DATE:20180825
DTEND;VALUE=DATE:20180826
DTSTAMP:20260422T163459
CREATED:20171207T181509Z
LAST-MODIFIED:20171207T181839Z
UID:2842-1535155200-1535241599@reeseryan.com
SUMMARY:Lights! Camera! Action! Literary Event
DESCRIPTION:This literary event includes:\n\n\n Book Signing\n\n\nPanel Discussions\n\n\nMovie Screenings\n\n\n\n\nFeatured Authors\n\n\nBeverly Jenkins\nAC Arthur\nSherilyn Bennett\nIris Bolling\nYolanda Briggs\nEva J. Brock\nSavannah J. Frierson\nNorwood Holland\nSherryle Kiser Jackson\nVivian Rose Lee\nTrevy McDonald\nDeborah Fletcher Mello\nAngelia Menchan\nSienna Mynx\n\nSuzetta Perkins\n\n\nLeslie Ray\n\n\nMZ Robinson\n\n\nReese Ryan\n\n\nDL Sparks\n\n\nJackie Thomas\n\n\nVLR
URL:https://reeseryan.com/event/lights-camera-action-literary-event/
LOCATION:Courtyard Marriott Raleigh Durham\, 2001 Hospitality Court\, Morrisville\, NC\, 27526\, United States
CATEGORIES:Author Events,Book Clubs,Book Signing,Reader Events,Workshops & Conferences,Writer Events
ATTACH;FMTTYPE=image/jpeg:https://reeseryan.com/wp-content/uploads/2017/12/LightsCameraAction2018-2.jpg
END:VEVENT
END:VCALENDAR