BEGIN:VCALENDAR
VERSION:2.0
PRODID:-//Reese Ryan Romance - ECPv6.15.20//NONSGML v1.0//EN
CALSCALE:GREGORIAN
METHOD:PUBLISH
X-ORIGINAL-URL:https://reeseryan.com
X-WR-CALDESC:Events for Reese Ryan Romance
REFRESH-INTERVAL;VALUE=DURATION:PT1H
X-Robots-Tag:noindex
X-PUBLISHED-TTL:PT1H
BEGIN:VTIMEZONE
TZID:America/New_York
BEGIN:DAYLIGHT
TZOFFSETFROM:-0500
TZOFFSETTO:-0400
TZNAME:EDT
DTSTART:20160313T070000
END:DAYLIGHT
BEGIN:STANDARD
TZOFFSETFROM:-0400
TZOFFSETTO:-0500
TZNAME:EST
DTSTART:20161106T060000
END:STANDARD
BEGIN:DAYLIGHT
TZOFFSETFROM:-0500
TZOFFSETTO:-0400
TZNAME:EDT
DTSTART:20170312T070000
END:DAYLIGHT
BEGIN:STANDARD
TZOFFSETFROM:-0400
TZOFFSETTO:-0500
TZNAME:EST
DTSTART:20171105T060000
END:STANDARD
BEGIN:DAYLIGHT
TZOFFSETFROM:-0500
TZOFFSETTO:-0400
TZNAME:EDT
DTSTART:20180311T070000
END:DAYLIGHT
BEGIN:STANDARD
TZOFFSETFROM:-0400
TZOFFSETTO:-0500
TZNAME:EST
DTSTART:20181104T060000
END:STANDARD
END:VTIMEZONE
BEGIN:VEVENT
DTSTART;VALUE=DATE:20170701
DTEND;VALUE=DATE:20170702
DTSTAMP:20260420T031018
CREATED:20160826T161437Z
LAST-MODIFIED:20170224T215542Z
UID:2257-1498867200-1498953599@reeseryan.com
SUMMARY:Playing with Temptation Release
DESCRIPTION:Playing with Temptation\, Book #2 in the Pleasure Cove series published by Harlequin Kimani Romance\, goes on sale everywhere. \n \n 
URL:https://reeseryan.com/event/playing-with-temptation-release/
CATEGORIES:Book Release Dates
ATTACH;FMTTYPE=image/jpeg:https://reeseryan.com/wp-content/uploads/2016/08/ThumbnailCover.jpeg
END:VEVENT
END:VCALENDAR