BEGIN:VCALENDAR
VERSION:2.0
PRODID:-//Reese Ryan Romance - ECPv6.15.20//NONSGML v1.0//EN
CALSCALE:GREGORIAN
METHOD:PUBLISH
X-ORIGINAL-URL:https://reeseryan.com
X-WR-CALDESC:Events for Reese Ryan Romance
REFRESH-INTERVAL;VALUE=DURATION:PT1H
X-Robots-Tag:noindex
X-PUBLISHED-TTL:PT1H
BEGIN:VTIMEZONE
TZID:America/New_York
BEGIN:DAYLIGHT
TZOFFSETFROM:-0500
TZOFFSETTO:-0400
TZNAME:EDT
DTSTART:20160313T070000
END:DAYLIGHT
BEGIN:STANDARD
TZOFFSETFROM:-0400
TZOFFSETTO:-0500
TZNAME:EST
DTSTART:20161106T060000
END:STANDARD
BEGIN:DAYLIGHT
TZOFFSETFROM:-0500
TZOFFSETTO:-0400
TZNAME:EDT
DTSTART:20170312T070000
END:DAYLIGHT
BEGIN:STANDARD
TZOFFSETFROM:-0400
TZOFFSETTO:-0500
TZNAME:EST
DTSTART:20171105T060000
END:STANDARD
BEGIN:DAYLIGHT
TZOFFSETFROM:-0500
TZOFFSETTO:-0400
TZNAME:EDT
DTSTART:20180311T070000
END:DAYLIGHT
BEGIN:STANDARD
TZOFFSETFROM:-0400
TZOFFSETTO:-0500
TZNAME:EST
DTSTART:20181104T060000
END:STANDARD
END:VTIMEZONE
BEGIN:VEVENT
DTSTART;VALUE=DATE:20170301
DTEND;VALUE=DATE:20170302
DTSTAMP:20260422T073553
CREATED:20160826T161924Z
LAST-MODIFIED:20160827T144753Z
UID:2261-1488326400-1488412799@reeseryan.com
SUMMARY:Playing with Desire Release Date
DESCRIPTION:Playing with Desire\, the first book in the Pleasure Cove series\, published by Harlequin Kimani Romance\, goes on sale everywhere.
URL:https://reeseryan.com/event/playing-with-desire-release-date/
CATEGORIES:Book Release Dates
ATTACH;FMTTYPE=image/jpeg:https://reeseryan.com/wp-content/uploads/2016/08/PlayingWithDesireFrontCover-e1497974959224.jpg
END:VEVENT
BEGIN:VEVENT
DTSTART;TZID=America/New_York:20170301T190000
DTEND;TZID=America/New_York:20170301T200000
DTSTAMP:20260422T073553
CREATED:20170224T182507Z
LAST-MODIFIED:20170224T214352Z
UID:2447-1488394800-1488398400@reeseryan.com
SUMMARY:Playing with Desire Facebook Virtual Release Party
DESCRIPTION:Join us Wednesday\, March 1st from 7 – 8 PM on Facebook for fun\, games and giveaways to celebrate the official release date of Playing with Desire. \n \n  \n  \n 
URL:https://reeseryan.com/event/playing-with-desire-facebook-virtual-release-party/
LOCATION:Facebook
CATEGORIES:Author Events,Book Release Dates
ATTACH;FMTTYPE=image/jpeg:https://reeseryan.com/wp-content/uploads/2017/02/unnamed-1.jpg
END:VEVENT
END:VCALENDAR